BEGIN:VCALENDAR
VERSION:2.0
PRODID:-//Angelfreunde Stahl Hennigsdorf 1959 e.V. - ECPv6.8.1//NONSGML v1.0//EN
CALSCALE:GREGORIAN
METHOD:PUBLISH
X-WR-CALNAME:Angelfreunde Stahl Hennigsdorf 1959 e.V.
X-ORIGINAL-URL:https://angelfreunde1959.de
X-WR-CALDESC:Veranstaltungen für Angelfreunde Stahl Hennigsdorf 1959 e.V.
REFRESH-INTERVAL;VALUE=DURATION:PT1H
X-Robots-Tag:noindex
X-PUBLISHED-TTL:PT1H
BEGIN:VTIMEZONE
TZID:Europe/Berlin
BEGIN:DAYLIGHT
TZOFFSETFROM:+0100
TZOFFSETTO:+0200
TZNAME:CEST
DTSTART:20260329T010000
END:DAYLIGHT
BEGIN:STANDARD
TZOFFSETFROM:+0200
TZOFFSETTO:+0100
TZNAME:CET
DTSTART:20261025T010000
END:STANDARD
END:VTIMEZONE
BEGIN:VEVENT
DTSTART;TZID=Europe/Berlin:20260913T070000
DTEND;TZID=Europe/Berlin:20260913T120000
DTSTAMP:20260421T172612
CREATED:20240813T201128Z
LAST-MODIFIED:20260303T184018Z
UID:10000063-1789282800-1789300800@angelfreunde1959.de
SUMMARY:5. Hegemaßnahme "Abangeln"
DESCRIPTION:Liebe Vereinsmitglieder und Angelfreunde\, \nwir laden euch herzlich zu unserer fünften und letzten Friedfisch-Veranstaltung in diesem Jahr ein! Zum Abschluss der Saison treffen wir uns am Schönwalder Kanal\, um gemeinsam einen erfolgreichen Angeltag zu verbringen. \n📅 Datum: Samstag\, 13. September 2026\n⏰ Treffpunkt: 7:00 Uhr\n📍 Ort: Schönwalder Kanal \nLasst uns die Friedfisch-Saison gebührend beenden – wir freuen uns auf eure Teilnahme und wünschen allen Petri Heil! \nEuer Vorstand
URL:https://angelfreunde1959.de/event/5-hegemassnahme-abangeln/
LOCATION:Schönwalder Kanal\, Am neuen Kanal\, Hennigsdorf\, Brandenburg\, 16761\, Germany
CATEGORIES:Mitgliederversammlung
ATTACH;FMTTYPE=image/webp:https://angelfreunde1959.de/wp-content/uploads/2024/08/pexels-tomasz-filipek-1630039-1.webp
ORGANIZER;CN="Vorstand Angelfreunde Stahl 1959 e.V.":MAILTO:kontakt@angelfreunde1959.de
GEO:2°36'51.0"N;13°11'34.8"E
X-APPLE-STRUCTURED-LOCATION;VALUE=URI;X-ADDRESS=Schönwalder Kanal Am neuen Kanal Hennigsdorf Brandenburg 16761 Germany;X-APPLE-RADIUS=500;X-TITLE=Am neuen Kanal:geo:13°11'34.8"E,2°36'51.0"N
END:VEVENT
END:VCALENDAR