BEGIN:VCALENDAR
VERSION:2.0
PRODID:-//Angelfreunde Stahl Hennigsdorf 1959 e.V. - ECPv6.8.1//NONSGML v1.0//EN
CALSCALE:GREGORIAN
METHOD:PUBLISH
X-WR-CALNAME:Angelfreunde Stahl Hennigsdorf 1959 e.V.
X-ORIGINAL-URL:https://angelfreunde1959.de
X-WR-CALDESC:Veranstaltungen für Angelfreunde Stahl Hennigsdorf 1959 e.V.
REFRESH-INTERVAL;VALUE=DURATION:PT1H
X-Robots-Tag:noindex
X-PUBLISHED-TTL:PT1H
BEGIN:VTIMEZONE
TZID:Europe/Berlin
BEGIN:DAYLIGHT
TZOFFSETFROM:+0100
TZOFFSETTO:+0200
TZNAME:CEST
DTSTART:20260329T010000
END:DAYLIGHT
BEGIN:STANDARD
TZOFFSETFROM:+0200
TZOFFSETTO:+0100
TZNAME:CET
DTSTART:20261025T010000
END:STANDARD
END:VTIMEZONE
BEGIN:VEVENT
DTSTART;TZID=Europe/Berlin:20260613T060000
DTEND;TZID=Europe/Berlin:20260613T120000
DTSTAMP:20260419T183122
CREATED:20241124T145002Z
LAST-MODIFIED:20260303T183605Z
UID:10000081-1781330400-1781352000@angelfreunde1959.de
SUMMARY:3. Hegefischen
DESCRIPTION:Liebe Vereinsmitglieder und Angelfreunde\, \nwir laden euch herzlich zu unserem dritten Hegefischen in diesem Jahr ein! Dieses Mal treffen wir uns an der alten Fähre in Friedrichstahl und freuen uns auf einen spannenden Angeltag mit euch. \n📅 Datum: Samstag\, 13. Juni 2026\n⏰ Treffpunkt: 6:00 Uhr\n📍 Ort: Friedrichstahl\, alte Fähre \nHinweis zur Parksituation:\nBitte beachtet\, dass die Parkmöglichkeiten begrenzt sind. Achtet darauf\, ordnungsgemäß zu parken\, um anderen Anglern und Anwohnern keine Unannehmlichkeiten zu bereiten. \nWir freuen uns auf eine rege Teilnahme und wünschen allen Petri Heil! \nEuer Vorstand
URL:https://angelfreunde1959.de/event/3-hegefischen/
LOCATION:Angelstrecke Friedrichsthal (alte Fähre)\, Malzer Ch 196\, 16515 Oranienburg
CATEGORIES:Hegemaßnahme
ATTACH;FMTTYPE=image/jpeg:https://angelfreunde1959.de/wp-content/uploads/2024/08/pexels-tomasz-filipek-1630039.jpg
ORGANIZER;CN="Vorstand Angelfreunde Stahl 1959 e.V.":MAILTO:kontakt@angelfreunde1959.de
END:VEVENT
END:VCALENDAR